BEGIN:VCALENDAR
VERSION:2.0
PRODID:-//Rossiter Elementary School - ECPv6.15.20//NONSGML v1.0//EN
CALSCALE:GREGORIAN
METHOD:PUBLISH
X-ORIGINAL-URL:https://rossiter.helenaschools.org
X-WR-CALDESC:Events for Rossiter Elementary School
REFRESH-INTERVAL;VALUE=DURATION:PT1H
X-Robots-Tag:noindex
X-PUBLISHED-TTL:PT1H
BEGIN:VTIMEZONE
TZID:America/Denver
BEGIN:DAYLIGHT
TZOFFSETFROM:-0700
TZOFFSETTO:-0600
TZNAME:MDT
DTSTART:20240310T090000
END:DAYLIGHT
BEGIN:STANDARD
TZOFFSETFROM:-0600
TZOFFSETTO:-0700
TZNAME:MST
DTSTART:20241103T080000
END:STANDARD
BEGIN:DAYLIGHT
TZOFFSETFROM:-0700
TZOFFSETTO:-0600
TZNAME:MDT
DTSTART:20250309T090000
END:DAYLIGHT
BEGIN:STANDARD
TZOFFSETFROM:-0600
TZOFFSETTO:-0700
TZNAME:MST
DTSTART:20251102T080000
END:STANDARD
BEGIN:DAYLIGHT
TZOFFSETFROM:-0700
TZOFFSETTO:-0600
TZNAME:MDT
DTSTART:20260308T090000
END:DAYLIGHT
BEGIN:STANDARD
TZOFFSETFROM:-0600
TZOFFSETTO:-0700
TZNAME:MST
DTSTART:20261101T080000
END:STANDARD
END:VTIMEZONE
BEGIN:VEVENT
DTSTART;TZID=America/Denver:20251013T153000
DTEND;TZID=America/Denver:20251013T190000
DTSTAMP:20260425T120806
CREATED:20240111T210406Z
LAST-MODIFIED:20250616T161030Z
UID:10000373-1760369400-1760382000@rossiter.helenaschools.org
SUMMARY:Fall Parent Teacher Conferences
DESCRIPTION:
URL:https://rossiter.helenaschools.org/event/parent-teacher-conferences-3/
LOCATION:MT
END:VEVENT
BEGIN:VEVENT
DTSTART;TZID=America/Denver:20251014T153000
DTEND;TZID=America/Denver:20251014T190000
DTSTAMP:20260425T120806
CREATED:20250616T160807Z
LAST-MODIFIED:20250616T160924Z
UID:10000393-1760455800-1760468400@rossiter.helenaschools.org
SUMMARY:Fall Parent Teacher Conferences
DESCRIPTION:
URL:https://rossiter.helenaschools.org/event/fall-parent-teacher-conferences/
LOCATION:MT
END:VEVENT
BEGIN:VEVENT
DTSTART;VALUE=DATE:20251016
DTEND;VALUE=DATE:20251017
DTSTAMP:20260425T120806
CREATED:20250616T205632Z
LAST-MODIFIED:20250616T205632Z
UID:10000402-1760572800-1760659199@rossiter.helenaschools.org
SUMMARY:No School
DESCRIPTION:
URL:https://rossiter.helenaschools.org/event/no-school-2/
LOCATION:MT
END:VEVENT
BEGIN:VEVENT
DTSTART;VALUE=DATE:20251017
DTEND;VALUE=DATE:20251018
DTSTAMP:20260425T120806
CREATED:20250616T205658Z
LAST-MODIFIED:20250616T205658Z
UID:10000403-1760659200-1760745599@rossiter.helenaschools.org
SUMMARY:No School
DESCRIPTION:
URL:https://rossiter.helenaschools.org/event/no-school-3/
LOCATION:MT
END:VEVENT
END:VCALENDAR